BEGIN:VCALENDAR
VERSION:2.0
PRODID:-//TD Educational and Charitable Trust - ECPv6.15.17.1//NONSGML v1.0//EN
CALSCALE:GREGORIAN
METHOD:PUBLISH
X-WR-CALNAME:TD Educational and Charitable Trust
X-ORIGINAL-URL:https://tdeducation.in
X-WR-CALDESC:Events for TD Educational and Charitable Trust
REFRESH-INTERVAL;VALUE=DURATION:PT1H
X-Robots-Tag:noindex
X-PUBLISHED-TTL:PT1H
BEGIN:VTIMEZONE
TZID:UTC
BEGIN:STANDARD
TZOFFSETFROM:+0000
TZOFFSETTO:+0000
TZNAME:UTC
DTSTART:20200101T000000
END:STANDARD
END:VTIMEZONE
BEGIN:VEVENT
DTSTART;TZID=UTC:20210711T180000
DTEND;TZID=UTC:20210711T193000
DTSTAMP:20260422T050927
CREATED:20210709T050955Z
LAST-MODIFIED:20210726T041726Z
UID:1687-1626026400-1626031800@tdeducation.in
SUMMARY:HOW TO USE ONLINE RESOURCES PART 3
DESCRIPTION:Emergence of online classes has been a fast growing trend since pandemic started in March\, 2020.\, receiving both high acclaim and criticism with respect to how it is used and how it will change the education landscape. \nLet’s see how we can exploit technology to get the best results in our teaching methodology.
URL:https://tdeducation.in/webinar/how-to-use-online-resources-part-3/
CATEGORIES:Upcoming Webinar
END:VEVENT
END:VCALENDAR