BEGIN:VCALENDAR
VERSION:2.0
PRODID:-//TD Educational and Charitable Trust - ECPv6.15.17.1//NONSGML v1.0//EN
CALSCALE:GREGORIAN
METHOD:PUBLISH
X-WR-CALNAME:TD Educational and Charitable Trust
X-ORIGINAL-URL:https://tdeducation.in
X-WR-CALDESC:Events for TD Educational and Charitable Trust
REFRESH-INTERVAL;VALUE=DURATION:PT1H
X-Robots-Tag:noindex
X-PUBLISHED-TTL:PT1H
BEGIN:VTIMEZONE
TZID:UTC
BEGIN:STANDARD
TZOFFSETFROM:+0000
TZOFFSETTO:+0000
TZNAME:UTC
DTSTART:20200101T000000
END:STANDARD
END:VTIMEZONE
BEGIN:VEVENT
DTSTART;TZID=UTC:20210717T190000
DTEND;TZID=UTC:20210717T203000
DTSTAMP:20260422T050815
CREATED:20210709T055003Z
LAST-MODIFIED:20210726T041720Z
UID:1692-1626548400-1626553800@tdeducation.in
SUMMARY:CBSE Special Scheme of assessment 2021-22 for grade to 12
DESCRIPTION:In line with the Board’s continued focus on assessing stipulated learning outcomes by making the examinations competencies and core concepts based\, student-centric\, transparent\, technology-driven\, and having advance provision of alternatives for different future scenarios\, join our panel of speakers who will enlighten on CBSE SPECIAL SCHEME OF ASSESSMENT 2021-22 FOR GRADE 9 TO 12.
URL:https://tdeducation.in/webinar/cbse-special-scheme-of-assessment-2021-22-for-grade-to-12/
END:VEVENT
END:VCALENDAR