BEGIN:VCALENDAR
VERSION:2.0
PRODID:-//TD Educational and Charitable Trust - ECPv6.15.17.1//NONSGML v1.0//EN
CALSCALE:GREGORIAN
METHOD:PUBLISH
X-ORIGINAL-URL:https://tdeducation.in
X-WR-CALDESC:Events for TD Educational and Charitable Trust
REFRESH-INTERVAL;VALUE=DURATION:PT1H
X-Robots-Tag:noindex
X-PUBLISHED-TTL:PT1H
BEGIN:VTIMEZONE
TZID:UTC
BEGIN:STANDARD
TZOFFSETFROM:+0000
TZOFFSETTO:+0000
TZNAME:UTC
DTSTART:20200101T000000
END:STANDARD
END:VTIMEZONE
BEGIN:VEVENT
DTSTART;TZID=UTC:20211120T180000
DTEND;TZID=UTC:20211120T193000
DTSTAMP:20260421T220748
CREATED:20211119T112812Z
LAST-MODIFIED:20211119T113058Z
UID:1938-1637431200-1637436600@tdeducation.in
SUMMARY:INSIGHTS ON TEACHING OF MATHEMATICS FOR GRADES 10 AND 12
DESCRIPTION:Dear educator\, \n  \nTDEACT invites you to the upcoming webinar. \n  \nTopic: INSIGHTS ON TEACHING OF MATHEMATICS FOR GRADE 10 AND 12 \nTime: November 20\, 2021 06:00 PM \nRegards \nDr G Thangadurai \nManaging Trustee \nTD Educational and Charitable Trust \nBangalore \n9731333547
URL:https://tdeducation.in/webinar/insights-on-teaching-of-mathematics-for-grades-10-and-12/
END:VEVENT
END:VCALENDAR