BEGIN:VCALENDAR
VERSION:2.0
PRODID:-//TD Educational and Charitable Trust - ECPv6.15.17.1//NONSGML v1.0//EN
CALSCALE:GREGORIAN
METHOD:PUBLISH
X-WR-CALNAME:TD Educational and Charitable Trust
X-ORIGINAL-URL:https://tdeducation.in
X-WR-CALDESC:Events for TD Educational and Charitable Trust
REFRESH-INTERVAL;VALUE=DURATION:PT1H
X-Robots-Tag:noindex
X-PUBLISHED-TTL:PT1H
BEGIN:VTIMEZONE
TZID:UTC
BEGIN:STANDARD
TZOFFSETFROM:+0000
TZOFFSETTO:+0000
TZNAME:UTC
DTSTART:20200101T000000
END:STANDARD
END:VTIMEZONE
BEGIN:VEVENT
DTSTART;TZID=UTC:20211204T180000
DTEND;TZID=UTC:20211204T193000
DTSTAMP:20260421T202609
CREATED:20211124T085304Z
LAST-MODIFIED:20211124T085304Z
UID:1947-1638640800-1638646200@tdeducation.in
SUMMARY:Insights on Teaching of Science (Phy\, Chem & Biology) - CBSE Term 1 Grade X & XII
DESCRIPTION:Dear Educators\n\nGreetings from TDEACT!\n\nWith reference to the trailing mail\, please note our upcoming webinar on the topic Insights on Teaching of Science (Phy\, Chem & Biology) – CBSE Term 1 Grade X & XII is scheduled on Saturday\, 4th December\, 2021.\n\nInterested participants may register using the following link\n\nhttps://forms.gle/hL7BtTkthziFYaUX9\n\nKindly refer to the brochure for more details.\n\nLooking forward to your participation in the webinar.\n\n\n\nWarm Regards\nDr G Thangadurai\nManaging Trustee\nTD Educational & Charitable Trust\nBangalore\, India
URL:https://tdeducation.in/webinar/insights-on-teaching-of-science-phy-chem-biology-cbse-term-1-grade-x-xii/
END:VEVENT
END:VCALENDAR