BEGIN:VCALENDAR
VERSION:2.0
PRODID:-//TD Educational and Charitable Trust - ECPv6.15.17.1//NONSGML v1.0//EN
CALSCALE:GREGORIAN
METHOD:PUBLISH
X-ORIGINAL-URL:https://tdeducation.in
X-WR-CALDESC:Events for TD Educational and Charitable Trust
REFRESH-INTERVAL;VALUE=DURATION:PT1H
X-Robots-Tag:noindex
X-PUBLISHED-TTL:PT1H
BEGIN:VTIMEZONE
TZID:UTC
BEGIN:STANDARD
TZOFFSETFROM:+0000
TZOFFSETTO:+0000
TZNAME:UTC
DTSTART:20200101T000000
END:STANDARD
END:VTIMEZONE
BEGIN:VEVENT
DTSTART;TZID=UTC:20211218T180000
DTEND;TZID=UTC:20211218T190000
DTSTAMP:20260421T204634
CREATED:20211209T113322Z
LAST-MODIFIED:20211209T113333Z
UID:1952-1639850400-1639854000@tdeducation.in
SUMMARY:‘How to prepare CBSE Grades X and XII Students for Term 2 exam
DESCRIPTION:Dear Educators and Parents \n  \nThe present as well as the last academic sessions have been challenging for students and teachers alike. The Covid19 pandemic thrust the entire education system into an unprecedented and untried era of blended learning. \n  \nThe pandemic posed some crucial questions – ‘How can we support our students?’\, ‘ Are we transacting the curriculum as desired?\,’ ‘Are we achieving the desired learning outcomes?\, ‘ ‘ Have our students picked the core skills to avoid increasing learning gaps in higher classes?’ \n  \nIt is a challenge for teachers to identify what is core and essential learning that must not be watered down or left out at any cost in the uncertainty of the pandemic. \n  \nTherefore\, Anay Academy\, a unit of TD Educational and Charitable Trust and powered by Fastedge.ai has launched resources to support the teaching learning journey. \n  \nA panel of eminent educationists\, experienced teachers will discuss the salient features of the proposed resources in its upcoming webinar on the topic \n  \n‘How to prepare CBSE Grades X and XII Students for Term 2 exam’ \n  \nThe session will help you: \n  \n1. To understand how to take up term II exam \n  \n2. How to take technological support to blend with teacher’s initiatives. \n  \n3. Role of teacher’s interventions as a personalized learning after school hours. \n  \n4. Aim for 90+ score \n  \nJoin us on 18th of December\, 2021 at 6.00pm to be a part of this great discussion. Please click the link below to register free or you may also refer to the attached brochure and visit our website www.tdeducation.in for more updates. \n  \n  \n  \nLink to register – https://forms.gle/YA2CsW5aVdjwN5sPA \n  \n  \n  \nRegards \n  \nDr.G.Thangadurai \n  \nManaging Trustee \n  \nTD Educational and Charitable Trust \n  \nBangalore \,India \n  \n  \n  \n 
URL:https://tdeducation.in/webinar/how-to-prepare-cbse-grades-x-and-xii-students-for-term-2-exam/
END:VEVENT
END:VCALENDAR