BEGIN:VCALENDAR
VERSION:2.0
PRODID:-//TD Educational and Charitable Trust - ECPv6.15.17.1//NONSGML v1.0//EN
CALSCALE:GREGORIAN
METHOD:PUBLISH
X-ORIGINAL-URL:https://tdeducation.in
X-WR-CALDESC:Events for TD Educational and Charitable Trust
REFRESH-INTERVAL;VALUE=DURATION:PT1H
X-Robots-Tag:noindex
X-PUBLISHED-TTL:PT1H
BEGIN:VTIMEZONE
TZID:UTC
BEGIN:STANDARD
TZOFFSETFROM:+0000
TZOFFSETTO:+0000
TZNAME:UTC
DTSTART:20210101T000000
END:STANDARD
END:VTIMEZONE
BEGIN:VEVENT
DTSTART;TZID=UTC:20220122T180000
DTEND;TZID=UTC:20220122T200000
DTSTAMP:20260421T185127
CREATED:20220109T093710Z
LAST-MODIFIED:20220109T093710Z
UID:1955-1642874400-1642881600@tdeducation.in
SUMMARY:Reimagining School Education in Post Pandemic India
DESCRIPTION:Keeping in mind the difficulties that teachers \, students and parents have faced during these 19 months of pandemic\, TDEACT is all set to conduct a webinar on the topic: \nReimagining school education in post pandemic in India \nThe coronavirus pandemic has seriously upended the education system. Along with the shift from classrooms to computer screens almost all aspects of learning are being tested. Format of instruction\, attendance\, evaluation\, the role of technology\, and human interaction are all being re-imagined and there is a growing possibility that some of these changes will last.\nThe prolonged closure of schools and colleges has also highlighted some underlying vulnerabilities in the education system and as the various stakeholders strive to address challenges and plug the gap\, education\, as we know\, is going to change forever. Blended learning will be a new norm\, which has also been envisaged in our NEP 2020.
URL:https://tdeducation.in/webinar/reimagining-school-education-in-post-pandemic-in-india/
END:VEVENT
END:VCALENDAR