BEGIN:VCALENDAR
VERSION:2.0
PRODID:-//TD Educational and Charitable Trust - ECPv6.15.17.1//NONSGML v1.0//EN
CALSCALE:GREGORIAN
METHOD:PUBLISH
X-WR-CALNAME:TD Educational and Charitable Trust
X-ORIGINAL-URL:https://tdeducation.in
X-WR-CALDESC:Events for TD Educational and Charitable Trust
REFRESH-INTERVAL;VALUE=DURATION:PT1H
X-Robots-Tag:noindex
X-PUBLISHED-TTL:PT1H
BEGIN:VTIMEZONE
TZID:UTC
BEGIN:STANDARD
TZOFFSETFROM:+0000
TZOFFSETTO:+0000
TZNAME:UTC
DTSTART:20210101T000000
END:STANDARD
END:VTIMEZONE
BEGIN:VEVENT
DTSTART;TZID=UTC:20220205T180000
DTEND;TZID=UTC:20220205T200000
DTSTAMP:20260421T103152
CREATED:20220125T044713Z
LAST-MODIFIED:20220125T044713Z
UID:1958-1644084000-1644091200@tdeducation.in
SUMMARY:CBSE Grades X & XII Sample Papers: A Review and Insights
DESCRIPTION:Dear Participants\, \n\nGreetings from TDEACT!\nHope you and your family are in the best of health.\nTD Educational and Charitable Trust\, Bangalore \, India brings yet another exciting session on the topic: CBSE GRADE X AND XII SAMPLE PAPERS- A REVIEW AND INSIGHTS dated 5th February 2022\, Saturday ; 6:00 pm onwards.\n\nAs a part of our aim\, we wish to reach out to faculty members across the globe\, and help decode the sample papers shared by CBSE.\n\nThis exercise will help all the teachers to understand the types of questions that may be asked and also help in developing a question bank for their students.\n\nLet us all unitedly work together for the better future of our students.\nLooking forward to your presence in this webinar.\n\nPlease find attached brochure for more details and click on the link below to register.\nLink: https://forms.gle/X266BCMXTEWA1gje9\n\nThanks and Regards\nDr G Thangadurai\nManaging Trustee\nTDEACT
URL:https://tdeducation.in/webinar/cbse-grades-x-xii-sample-papers-a-review-and-insights/
END:VEVENT
END:VCALENDAR