BEGIN:VCALENDAR
VERSION:2.0
PRODID:-//TD Educational and Charitable Trust - ECPv6.15.17.1//NONSGML v1.0//EN
CALSCALE:GREGORIAN
METHOD:PUBLISH
X-ORIGINAL-URL:https://tdeducation.in
X-WR-CALDESC:Events for TD Educational and Charitable Trust
REFRESH-INTERVAL;VALUE=DURATION:PT1H
X-Robots-Tag:noindex
X-PUBLISHED-TTL:PT1H
BEGIN:VTIMEZONE
TZID:UTC
BEGIN:STANDARD
TZOFFSETFROM:+0000
TZOFFSETTO:+0000
TZNAME:UTC
DTSTART:20200101T000000
END:STANDARD
END:VTIMEZONE
BEGIN:VEVENT
DTSTART;TZID=UTC:20210904T183000
DTEND;TZID=UTC:20210904T200000
DTSTAMP:20260421T235245
CREATED:20210827T051616Z
LAST-MODIFIED:20210827T052059Z
UID:1817-1630780200-1630785600@tdeducation.in
SUMMARY:CBSE UPDATED ASSESSMENT REFORMS
DESCRIPTION:Confused about the changes brought in by CBSE? Not sure what is the blueprint for the examination? Not thoroughly aware of the changes brought about in the assessment pattern?\nWell\, don’t worry! TD Educational and Charitable Trust brings an exclusive session on CBSE Updated Assessment Reforms on 4th September 2021\, 6:30 PM onwards.\n\nMEETING ID AND PASSCODE WILL BE SHARED ON THE DAY OF THE EVENT.
URL:https://tdeducation.in/webinar/cbse-updated-assessment-reforms/
END:VEVENT
BEGIN:VEVENT
DTSTART;TZID=UTC:20210918T183000
DTEND;TZID=UTC:20210918T200000
DTSTAMP:20260421T235245
CREATED:20210912T074449Z
LAST-MODIFIED:20210912T074449Z
UID:1905-1631989800-1631995200@tdeducation.in
SUMMARY:CBSE GUIDELINES TO UNDERTAKE INTERNAL ASSESSMENT / PRACTICAL / PROJECT WORK
DESCRIPTION:Dear Participant\, \n\nGreetings from TDEACT! \n\nWe trust that you and your family are safe and well. \n  \nWe are proud to announce our upcoming webinar on the topic: Insights on CBSE Grade 9 to 12 guidelines on Internal Assessment \n\nIn continuation to the CBSE circulars\, guidelines to undertake internal Assessment/Practical/ Project work and webinars conducted by CBSE\, TD Educational and Charitable Trust (TDEACT) proposes to conduct on exclusive webinar on ‘CBSE guidelines to undertake internal Assessment /Practical/Project work. \nThe pandemic situations across the country has forced schools to remain closed for second consecutive session. CBSE could not conduct Grade X and XII Board examination and had to compile CBSE Board results on the basis of Internal Examination and reference year. \nTherefore\, the need to have a clear understanding and plan for conducting internal examinations. \nLooking  forward to hosting you on:\nDate: 18th September 2021 \nDay Saturday \nTime: 6.30PM onwards \nYou may Register through the website. \nOr click the link below to register. \nLink for registration:  https://forms.gle/yfjSb4UA6kgVPJru7  \nStay safe\, stay healthy! \n\nWarm Regards \nDr G Thangadurai \nManaging Trustee \nTD Educational & Charitable Trust \nBangalore\, India \n9731333547
URL:https://tdeducation.in/webinar/cbse-guidelines-to-undertake-internal-assessment-practical-project-work/
END:VEVENT
END:VCALENDAR